BEGIN:VCALENDAR
PRODID:-//eluceo/ical//2.0/EN
VERSION:2.0
CALSCALE:GREGORIAN
BEGIN:VEVENT
UID:event-38
DTSTAMP:20260423T153924Z
SUMMARY:Orsted Lunch Lecture 
DESCRIPTION:⚡ Offshore Wind &amp\; Cable Installation – Lunch Lecture w
 ith Ørsted 🌊 Join us on Friday\, April 25th\, from 12:45 to 13:30 for 
 an exclusive Lunch Lecture with Iasonas Filippidis\, Installation Manager 
 at Ørsted and former board member of Energy for Refugees. Ørsted\, the w
 orld’s largest developer of offshore wind power\, is at the forefront of
  the energy transition. Iasonas will share insights into the installation 
 and operation of offshore wind farms\, covering key processes involved in 
 offshore cable installation and what it takes to bring offshore wind proje
 cts to life. He’ll also talk about his journey at Ørsted and the broade
 r opportunities in the industry. This event is organized in collaboration 
 with Energy for Refugees\, a student-led initiative promoting energy acces
 s in crisis-affected communities. 🕒 Practical Details: 📅 Friday\, Ap
 ril 25th 🕒 12:45 - 13:30 📍 IDE Arena\, TU Delft 🥪 Free lunch prov
 ided! Don't miss this opportunity to dive into offshore wind technology an
 d learn about Energy for Refugees. Sign up now! → https://forms.gle/JAKZ
 JLuiktQmEwPZA  
DTSTART:20250425T104500Z
DTEND:20250425T113000Z
END:VEVENT
BEGIN:VTIMEZONE
TZID:UTC
BEGIN:STANDARD
DTSTART:20250425T104500
TZNAME:UTC
TZOFFSETTO:+0000
TZOFFSETFROM:+0000
END:STANDARD
END:VTIMEZONE
END:VCALENDAR
