BEGIN:VCALENDAR
PRODID:-//eluceo/ical//2.0/EN
VERSION:2.0
CALSCALE:GREGORIAN
BEGIN:VEVENT
UID:event-43
DTSTAMP:20260423T153252Z
SUMMARY:The role of Generative AI in the Energy Transition
DESCRIPTION:The role of Generative AI in the Energy Transition Join us for 
 an exciting Lunch Lecture with Stephan Weenk\, consultant at SparkOptimus\
 , a digital strategy consultant. Stephan will explore the power of Generat
 ive Artificial Intelligence in shaping the future of the Energy Transition
  and Sustainability. Discover what this means for the world of tomorrow! 
  📅 30th of april\, 2025 📍IDE Arena\, Industrial Design Engineering 
 🕐 12:45 - 13:30 Sign-up here: https://docs.google.com/forms/d/e/1FAIpQL
 SflxxqaKyNvyIJ5flivO3elPSTb_mrEwIHaBK7t5mGgWjHxUg/viewform?usp=sharing Loo
 king forward seeing you there!  TU Delft Energy Club ⚡
DTSTART:20250430T104500Z
DTEND:20250430T113000Z
END:VEVENT
BEGIN:VTIMEZONE
TZID:UTC
BEGIN:STANDARD
DTSTART:20250430T104500
TZNAME:UTC
TZOFFSETTO:+0000
TZOFFSETFROM:+0000
END:STANDARD
END:VTIMEZONE
END:VCALENDAR
