BEGIN:VCALENDAR
PRODID:-//eluceo/ical//2.0/EN
VERSION:2.0
CALSCALE:GREGORIAN
BEGIN:VEVENT
UID:event-47
DTSTAMP:20260423T150936Z
SUMMARY:Tesla Lunch Lecture 
DESCRIPTION:🔋 Curious about how Tesla is shaping the future of clean ene
 rgy? On Friday\, May 16th\, from 12:45 to 13:30\, join Ed McCullough\, Hea
 d of Microgrid Engineering at Tesla\, for a Lunch Lecture. Ed Mccullough w
 ill share insights into Tesla’s approach to building resilient\, inverte
 r-based energy systems powered by renewables and storage. Come learn what 
 it takes to lead the global shift from traditional grids to a battery-powe
 red future! 📅 Friday\, May 16th 🕐 12:45 – 13:30 📍 TU Delft\, TB
 A 🥪 Lunch is provided!  Sign up here: https://forms.gle/bxDQCnt8SX8kd
 BtAA
DTSTART:20250516T104500Z
DTEND:20250516T113000Z
END:VEVENT
BEGIN:VTIMEZONE
TZID:UTC
BEGIN:STANDARD
DTSTART:20250516T104500
TZNAME:UTC
TZOFFSETTO:+0000
TZOFFSETFROM:+0000
END:STANDARD
END:VTIMEZONE
END:VCALENDAR
