BEGIN:VCALENDAR
PRODID:-//eluceo/ical//2.0/EN
VERSION:2.0
CALSCALE:GREGORIAN
BEGIN:VEVENT
UID:event-50
DTSTAMP:20260423T150935Z
SUMMARY:Windpark Fryslan Excursion 
DESCRIPTION:Join us for an exclusive excursion to Windpark Fryslân! Get a 
 behind-the-scenes look at how wind energy is harnessed\, from a boat tour 
 across the IJsselmeer and a visit to the transformer station at Breezanddi
 jk. Don’t miss this chance to experience renewable energy in action and 
 connect with fellow energy enthusiasts! 📅 Date: May 9th\, 2025 ⏰ Time
 : 08:45 - 17:00 📍Location: Windpark Fryslân &amp\; Wadden Center Afslu
 itdijk 💲Cost: 10 euros Schedule Highlights: ☕ Arrival at Wadden Cente
 r with coffee\, tea &amp\; cake  📊 Presentation on Windpark operations
  ⛵ Boat tour to the wind farm with lunch onboard 🔌Guided tour of the 
 transformer station at Breezanddijk
DTSTART:20250509T070000Z
DTEND:20250509T150000Z
END:VEVENT
BEGIN:VTIMEZONE
TZID:UTC
BEGIN:STANDARD
DTSTART:20250509T070000
TZNAME:UTC
TZOFFSETTO:+0000
TZOFFSETFROM:+0000
END:STANDARD
END:VTIMEZONE
END:VCALENDAR
