BEGIN:VCALENDAR
PRODID:-//eluceo/ical//2.0/EN
VERSION:2.0
CALSCALE:GREGORIAN
BEGIN:VEVENT
UID:event-53
DTSTAMP:20260423T153510Z
SUMMARY:Emmet Green Inhouse Day 
DESCRIPTION:Emmett Green Inhouse Day On October 3th\, we’re heading to th
 e Emmett Green office for an exclusive inhouse day\, where we’ll dive in
 to the future of energy hubs — the places where electrical engineering\,
  energy management systems\, and hydrogen come together. Emmett Green is a
 n innovative company driving the energy transition forward. With expertise
  in fields such as power engineering\, hydrogen\, batteries\, heat\, IoT\,
  and smart algorithms\, they bring complex solutions to life to shape a mo
 re sustainable future. During this workshop\, you’ll explore how differe
 nt technologies connect\, interact\, and can be managed to accelerate the 
 transition to a greener energy system. 📅 Date: 3th of October 2025 🕒
  Time: 13:30 – 17:00 📍 Location: Kanaalweg 4\, 2628EB Delft 👉 Sign
  up here: https://docs.google.com/forms/d/e/1FAIpQLScME5go4RegmeKRoM3WfxTE
 donHOdEkW9eBZ1L_gh9lgebAtg/viewform?usp=preview  
DTSTART:20251003T113000Z
DTEND:20251003T150000Z
END:VEVENT
BEGIN:VTIMEZONE
TZID:UTC
BEGIN:STANDARD
DTSTART:20251003T113000
TZNAME:UTC
TZOFFSETTO:+0000
TZOFFSETFROM:+0000
END:STANDARD
END:VTIMEZONE
END:VCALENDAR
