BEGIN:VCALENDAR
PRODID:-//eluceo/ical//2.0/EN
VERSION:2.0
CALSCALE:GREGORIAN
BEGIN:VEVENT
UID:event-54
DTSTAMP:20260423T150900Z
SUMMARY:Prysmian Inhouse Day
DESCRIPTION:Join us at the inhouse day at Prysmian and explore the world o
 f the global leader in cable systems! Prysmian is at the forefront of ener
 gy infrastructure\, developing advanced cable technologies that connect an
 d enable renewable systems worldwide. This inhouse day offers a unique cha
 nce to see their operations up close and meet the people driving innovatio
 n. 📅 Date: Friday\, 24 October 2025 ⏰ Time: 9:00 – 13:30 📍 Locat
 ion: Schieweg 9\, Delft ⚠️ Please note: the date of this event is stil
 l not 100% definitive\, stay updated via our Instagram / website.   
DTSTART:20251024T070000Z
DTEND:20251024T113000Z
END:VEVENT
BEGIN:VTIMEZONE
TZID:UTC
BEGIN:STANDARD
DTSTART:20251024T070000
TZNAME:UTC
TZOFFSETTO:+0000
TZOFFSETFROM:+0000
END:STANDARD
END:VTIMEZONE
END:VCALENDAR
