BEGIN:VCALENDAR
PRODID:-//eluceo/ical//2.0/EN
VERSION:2.0
CALSCALE:GREGORIAN
BEGIN:VEVENT
UID:event-55
DTSTAMP:20260423T152043Z
SUMMARY:Energy for Refugees
DESCRIPTION:Discover how TU Delft students are bringing sustainable energy 
 to refugee camps and empowering young lives in Kenya!  Hear about their u
 pcoming mission in Kakuma Refugee Camp\, where they will install a 58 kWp 
 solar system to power a vocational center\, providing education and opport
 unities for thousands of young refugees. 🕒 Practical Details: 📅 Thur
 sday\, October 23rd 🕓 17:30 – 18:30 📍 TBD 🥤 Drinks &amp\; snac
 ks will be provided!
DTSTART:20251024T153000Z
DTEND:20251024T163000Z
END:VEVENT
BEGIN:VTIMEZONE
TZID:UTC
BEGIN:STANDARD
DTSTART:20251024T153000
TZNAME:UTC
TZOFFSETTO:+0000
TZOFFSETFROM:+0000
END:STANDARD
END:VTIMEZONE
END:VCALENDAR
