BEGIN:VCALENDAR
PRODID:-//eluceo/ical//2.0/EN
VERSION:2.0
CALSCALE:GREGORIAN
BEGIN:VEVENT
UID:event-69
DTSTAMP:20260423T152043Z
SUMMARY:Lunch Lecture: Dreamteams Eco-Runner and Hydro Motion
DESCRIPTION:Join us for an inspiring lunch lecture with two of TU Delft’s
  leading Dream Teams: Eco-Runner and Hydro Motion. Discover how these stud
 ent teams are pushing the boundaries of sustainable mobility by developing
  cutting-edge (liquid) hydrogen technologies and fuel flexibility with sus
 tainable fuels. During this session\, the teams will share insights into t
 heir latest innovations\, the challenges of designing and building world-c
 lass prototypes\, and how their innovations can play a key role in the fut
 ure of clean transportation. Sign-up here: https://docs.google.com/forms/d
 /e/1FAIpQLSe9BsBw25p_oQwO6DWAhHPSCL9qrxSuFhWNdf2XnwVb5VBs5A/viewform?usp=d
 ialog
DTSTART:20260312T113000Z
DTEND:20260312T124500Z
END:VEVENT
BEGIN:VTIMEZONE
TZID:UTC
BEGIN:STANDARD
DTSTART:20260312T113000
TZNAME:UTC
TZOFFSETTO:+0000
TZOFFSETFROM:+0000
END:STANDARD
END:VTIMEZONE
END:VCALENDAR
