BEGIN:VCALENDAR
PRODID:-//eluceo/ical//2.0/EN
VERSION:2.0
CALSCALE:GREGORIAN
BEGIN:VEVENT
UID:event-73
DTSTAMP:20260423T153725Z
SUMMARY:TU Delft Clean Tech Conference
DESCRIPTION:Join us at the TU Delft Clean Tech Conference\, where the futur
 e of clean industry and sustainable energy takes center stage. This event 
 brings together researchers\, entrepreneurs\, engineers\, policymakers\, a
 nd other professionals to explore the latest developments in clean technol
 ogy\, industrial innovation\, and the energy transition. Throughout the co
 nference\, participants can attend keynote speeches\, panel discussions\, 
 and presentations from start-ups and young researchers\, as well as visit 
 the innovation market to discover new ideas and technologies. The event al
 so offers plenty of opportunities to exchange knowledge\, build connection
 s\, and explore collaborations that can contribute to a more sustainable i
 ndustrial future. More information and tickets: https://www.aanmelder.nl
 /cleantech/home
DTSTART:20260317T080000Z
DTEND:20260317T163000Z
END:VEVENT
BEGIN:VTIMEZONE
TZID:UTC
BEGIN:STANDARD
DTSTART:20260317T080000
TZNAME:UTC
TZOFFSETTO:+0000
TZOFFSETFROM:+0000
END:STANDARD
END:VTIMEZONE
END:VCALENDAR
