BEGIN:VCALENDAR
PRODID:-//eluceo/ical//2.0/EN
VERSION:2.0
CALSCALE:GREGORIAN
BEGIN:VEVENT
UID:event-74
DTSTAMP:20260423T152559Z
SUMMARY:Lunch Lecture: Hans van Doesburg - Critical Materials for Electrifi
 cation
DESCRIPTION:We are pleased to welcome Hans van Doesburg for an upcoming lun
 ch lecture about the future of nuclear generation. Hans has built a career
  in the energy sector\, with a particular focus on nuclear energy and ener
 gy policy. He has worked in various roles related to nuclear technology\, 
 policy advising\, and energy transition strategies\, giving him a broad un
 derstanding of both the technical and political aspects of nuclear power. 
 Currently\, he is involved in shaping discussions about the future role of
  nuclear energy in the Netherlands\, contributing to policy development an
 d public dialogue around sustainable energy solutions. In this lecture\, h
 e will share his insights into the role of nuclear power in a sustainable 
 energy future\, the latest technological developments\, and the challenges
  and opportunities that lie ahead for nuclear energy in the Netherlands an
 d beyond.
DTSTART:20260325T114500Z
DTEND:20260325T124500Z
END:VEVENT
BEGIN:VTIMEZONE
TZID:UTC
BEGIN:STANDARD
DTSTART:20260325T114500
TZNAME:UTC
TZOFFSETTO:+0000
TZOFFSETFROM:+0000
END:STANDARD
END:VTIMEZONE
END:VCALENDAR
